BEGIN:VCALENDAR
VERSION:2.0
PRODID:-//San Joaquin Joint Powers Authority - ECPv6.15.13//NONSGML v1.0//EN
CALSCALE:GREGORIAN
METHOD:PUBLISH
X-WR-CALNAME:San Joaquin Joint Powers Authority
X-ORIGINAL-URL:https://sjjpa.com
X-WR-CALDESC:Events for San Joaquin Joint Powers Authority
REFRESH-INTERVAL;VALUE=DURATION:PT1H
X-Robots-Tag:noindex
X-PUBLISHED-TTL:PT1H
BEGIN:VTIMEZONE
TZID:America/Los_Angeles
BEGIN:DAYLIGHT
TZOFFSETFROM:-0800
TZOFFSETTO:-0700
TZNAME:PDT
DTSTART:20200308T100000
END:DAYLIGHT
BEGIN:STANDARD
TZOFFSETFROM:-0700
TZOFFSETTO:-0800
TZNAME:PST
DTSTART:20201101T090000
END:STANDARD
BEGIN:DAYLIGHT
TZOFFSETFROM:-0800
TZOFFSETTO:-0700
TZNAME:PDT
DTSTART:20210314T100000
END:DAYLIGHT
BEGIN:STANDARD
TZOFFSETFROM:-0700
TZOFFSETTO:-0800
TZNAME:PST
DTSTART:20211107T090000
END:STANDARD
BEGIN:DAYLIGHT
TZOFFSETFROM:-0800
TZOFFSETTO:-0700
TZNAME:PDT
DTSTART:20220313T100000
END:DAYLIGHT
BEGIN:STANDARD
TZOFFSETFROM:-0700
TZOFFSETTO:-0800
TZNAME:PST
DTSTART:20221106T090000
END:STANDARD
END:VTIMEZONE
BEGIN:VEVENT
DTSTART;TZID=America/Los_Angeles:20211216T090000
DTEND;TZID=America/Los_Angeles:20211216T110000
DTSTAMP:20260421T072317
CREATED:20211210T220108Z
LAST-MODIFIED:20230419T101908Z
UID:2632-1639645200-1639652400@sjjpa.com
SUMMARY:SJJPA Special Meeting December 16\, 2021
DESCRIPTION:TELECONFERENCE SPECIAL BOARD MEETING December 16\, 2021 – 9:00 AM \nSJJPA December 16\, 2021 Special Meeting Agenda Packet\nCall-In Information: +1 (646) 749-3335 Conference Access Code: 924-656-381 GoToMeeting Link: https://global.gotomeeting.com/join/924656381\nIn accordance with Assembly Bill 361 (AB361)\, San Joaquin Joint Powers Authority Board Members will be attending this meeting via teleconference or videoconference. Members of the public may observe the meeting by dialing +1 (646) 749-3335 with access code: 924-656- 381 or log-in using a computer\, tablet or smartphone at GoToMeeting.com using link: https://global.gotomeeting.com/join/924656381\nSPECIAL NOTICE Coronavirus COVID-19
URL:https://sjjpa.com/event/sjjpa-special-meeting-december-16-2021/
CATEGORIES:Board Meetings
END:VEVENT
END:VCALENDAR