BEGIN:VCALENDAR
VERSION:2.0
PRODID:-//San Joaquin Joint Powers Authority - ECPv6.15.13//NONSGML v1.0//EN
CALSCALE:GREGORIAN
METHOD:PUBLISH
X-WR-CALNAME:San Joaquin Joint Powers Authority
X-ORIGINAL-URL:https://sjjpa.com
X-WR-CALDESC:Events for San Joaquin Joint Powers Authority
REFRESH-INTERVAL;VALUE=DURATION:PT1H
X-Robots-Tag:noindex
X-PUBLISHED-TTL:PT1H
BEGIN:VTIMEZONE
TZID:America/Los_Angeles
BEGIN:DAYLIGHT
TZOFFSETFROM:-0800
TZOFFSETTO:-0700
TZNAME:PDT
DTSTART:20160313T100000
END:DAYLIGHT
BEGIN:STANDARD
TZOFFSETFROM:-0700
TZOFFSETTO:-0800
TZNAME:PST
DTSTART:20161106T090000
END:STANDARD
BEGIN:DAYLIGHT
TZOFFSETFROM:-0800
TZOFFSETTO:-0700
TZNAME:PDT
DTSTART:20170312T100000
END:DAYLIGHT
BEGIN:STANDARD
TZOFFSETFROM:-0700
TZOFFSETTO:-0800
TZNAME:PST
DTSTART:20171105T090000
END:STANDARD
BEGIN:DAYLIGHT
TZOFFSETFROM:-0800
TZOFFSETTO:-0700
TZNAME:PDT
DTSTART:20180311T100000
END:DAYLIGHT
BEGIN:STANDARD
TZOFFSETFROM:-0700
TZOFFSETTO:-0800
TZNAME:PST
DTSTART:20181104T090000
END:STANDARD
END:VTIMEZONE
BEGIN:VEVENT
DTSTART;TZID=America/Los_Angeles:20170922T103000
DTEND;TZID=America/Los_Angeles:20170922T123000
DTSTAMP:20260421T094600
CREATED:20180814T185222Z
LAST-MODIFIED:20221202T124725Z
UID:688-1506076200-1506083400@sjjpa.com
SUMMARY:SJJPA Board Meeting September 2017
DESCRIPTION:Agenda / Board Packet / Presentation
URL:https://sjjpa.com/event/sjjpa-board-meeting-september-2017/
LOCATION:San Joaquin Council of Governments Board Room\, 555 East Weber Avenue\, Stockton\, Ca\, 95202
CATEGORIES:Board Meetings
GEO:37.9550149;-121.2840397
X-APPLE-STRUCTURED-LOCATION;VALUE=URI;X-ADDRESS=San Joaquin Council of Governments Board Room 555 East Weber Avenue Stockton Ca 95202;X-APPLE-RADIUS=500;X-TITLE=555 East Weber Avenue:geo:-121.2840397,37.9550149
END:VEVENT
END:VCALENDAR