BEGIN:VCALENDAR
VERSION:2.0
PRODID:-//San Joaquin Joint Powers Authority - ECPv6.15.13//NONSGML v1.0//EN
CALSCALE:GREGORIAN
METHOD:PUBLISH
X-WR-CALNAME:San Joaquin Joint Powers Authority
X-ORIGINAL-URL:https://sjjpa.com
X-WR-CALDESC:Events for San Joaquin Joint Powers Authority
REFRESH-INTERVAL;VALUE=DURATION:PT1H
X-Robots-Tag:noindex
X-PUBLISHED-TTL:PT1H
BEGIN:VTIMEZONE
TZID:America/Los_Angeles
BEGIN:DAYLIGHT
TZOFFSETFROM:-0800
TZOFFSETTO:-0700
TZNAME:PDT
DTSTART:20240310T100000
END:DAYLIGHT
BEGIN:STANDARD
TZOFFSETFROM:-0700
TZOFFSETTO:-0800
TZNAME:PST
DTSTART:20241103T090000
END:STANDARD
BEGIN:DAYLIGHT
TZOFFSETFROM:-0800
TZOFFSETTO:-0700
TZNAME:PDT
DTSTART:20250309T100000
END:DAYLIGHT
BEGIN:STANDARD
TZOFFSETFROM:-0700
TZOFFSETTO:-0800
TZNAME:PST
DTSTART:20251102T090000
END:STANDARD
BEGIN:DAYLIGHT
TZOFFSETFROM:-0800
TZOFFSETTO:-0700
TZNAME:PDT
DTSTART:20260308T100000
END:DAYLIGHT
BEGIN:STANDARD
TZOFFSETFROM:-0700
TZOFFSETTO:-0800
TZNAME:PST
DTSTART:20261101T090000
END:STANDARD
END:VTIMEZONE
BEGIN:VEVENT
DTSTART;TZID=America/Los_Angeles:20250516T103000
DTEND;TZID=America/Los_Angeles:20250516T123000
DTSTAMP:20260421T060450
CREATED:20241203T174501Z
LAST-MODIFIED:20250513T004917Z
UID:6959-1747391400-1747398600@sjjpa.com
SUMMARY:SJJPA Board Meeting - May 16\, 2025 10:30 am
DESCRIPTION:SJJPA May 16\, 2025 Board Meeting – Mailout \nMeeting Location: \nRobert J. Cabral Station \nBoard Room \n949 E Channel Street \nStockton\, CA 95202 \n  \nLink and Dial-In Information for Remote Attendees: \n  \nJoin from PC\, Mac\, iPad\, or Android: \nhttps://us06web.zoom.us/j/86266443717 \nPhone one-tap: \n+16694449171\,\,86266443717# US \n+17193594580\,\,86266443717# US \nJoin via audio: \n+1 669 444 9171 US \n+1 719 359 4580 US \n  \nWebinar ID: 862 6644 3717 \nInternational numbers available: https://us06web.zoom.us/u/keFZuRPq6y
URL:https://sjjpa.com/event/sjjpa-board-meeting-may-16-2025-11-am/
LOCATION:Robert J. Cabral Station\, 949 E. Channel Street\, Stockton\, CA\, 95202
CATEGORIES:Board Meetings
ORGANIZER;CN="Ariana Talosig":MAILTO:atalosig@sjrrc.com
END:VEVENT
END:VCALENDAR