BEGIN:VCALENDAR
VERSION:2.0
PRODID:-//San Joaquin Joint Powers Authority - ECPv6.15.13//NONSGML v1.0//EN
CALSCALE:GREGORIAN
METHOD:PUBLISH
X-WR-CALNAME:San Joaquin Joint Powers Authority
X-ORIGINAL-URL:https://sjjpa.com
X-WR-CALDESC:Events for San Joaquin Joint Powers Authority
REFRESH-INTERVAL;VALUE=DURATION:PT1H
X-Robots-Tag:noindex
X-PUBLISHED-TTL:PT1H
BEGIN:VTIMEZONE
TZID:America/Los_Angeles
BEGIN:DAYLIGHT
TZOFFSETFROM:-0800
TZOFFSETTO:-0700
TZNAME:PDT
DTSTART:20230312T100000
END:DAYLIGHT
BEGIN:STANDARD
TZOFFSETFROM:-0700
TZOFFSETTO:-0800
TZNAME:PST
DTSTART:20231105T090000
END:STANDARD
BEGIN:DAYLIGHT
TZOFFSETFROM:-0800
TZOFFSETTO:-0700
TZNAME:PDT
DTSTART:20240310T100000
END:DAYLIGHT
BEGIN:STANDARD
TZOFFSETFROM:-0700
TZOFFSETTO:-0800
TZNAME:PST
DTSTART:20241103T090000
END:STANDARD
BEGIN:DAYLIGHT
TZOFFSETFROM:-0800
TZOFFSETTO:-0700
TZNAME:PDT
DTSTART:20250309T100000
END:DAYLIGHT
BEGIN:STANDARD
TZOFFSETFROM:-0700
TZOFFSETTO:-0800
TZNAME:PST
DTSTART:20251102T090000
END:STANDARD
END:VTIMEZONE
BEGIN:VEVENT
DTSTART;TZID=America/Los_Angeles:20240910T170000
DTEND;TZID=America/Los_Angeles:20240910T190000
DTSTAMP:20260424T093718
CREATED:20240829T022632Z
LAST-MODIFIED:20240905T185036Z
UID:6786-1725987600-1725994800@sjjpa.com
SUMMARY:Envisioning Our Transit-Oriented Future: Elk Grove\, September 10\, 2024
DESCRIPTION:Sacramento Advocates for Rail & Transit (SMART) and Environmental Council of Sacramento (ECOS) Present\nENVISIONING OUR TRANSIT-ORIENTED FUTURE: ELK GROVE Date: Tuesday\, September 10\, 2024\nTime: 5:30 PM (doors open at 5)\nLocation: 8230 Civic Center Dr #100\, Elk Grove\, Ca RSVP Here
URL:https://sjjpa.com/event/envisioning-our-transit-oriented-future-elk-grove-september-10-2024/
LOCATION:District 56\, 8230 Civic Center Dr #100\, Elk Grove\, United States
CATEGORIES:Community Event
ORGANIZER;CN="Jackie Miramontes & Ariana Talosig":MAILTO:clerk@sjrrc.com
END:VEVENT
END:VCALENDAR