BEGIN:VCALENDAR
VERSION:2.0
PRODID:-//San Joaquin Joint Powers Authority - ECPv6.15.13//NONSGML v1.0//EN
CALSCALE:GREGORIAN
METHOD:PUBLISH
X-WR-CALNAME:San Joaquin Joint Powers Authority
X-ORIGINAL-URL:https://sjjpa.com
X-WR-CALDESC:Events for San Joaquin Joint Powers Authority
REFRESH-INTERVAL;VALUE=DURATION:PT1H
X-Robots-Tag:noindex
X-PUBLISHED-TTL:PT1H
BEGIN:VTIMEZONE
TZID:America/Los_Angeles
BEGIN:DAYLIGHT
TZOFFSETFROM:-0800
TZOFFSETTO:-0700
TZNAME:PDT
DTSTART:20190310T100000
END:DAYLIGHT
BEGIN:STANDARD
TZOFFSETFROM:-0700
TZOFFSETTO:-0800
TZNAME:PST
DTSTART:20191103T090000
END:STANDARD
BEGIN:DAYLIGHT
TZOFFSETFROM:-0800
TZOFFSETTO:-0700
TZNAME:PDT
DTSTART:20200308T100000
END:DAYLIGHT
BEGIN:STANDARD
TZOFFSETFROM:-0700
TZOFFSETTO:-0800
TZNAME:PST
DTSTART:20201101T090000
END:STANDARD
BEGIN:DAYLIGHT
TZOFFSETFROM:-0800
TZOFFSETTO:-0700
TZNAME:PDT
DTSTART:20210314T100000
END:DAYLIGHT
BEGIN:STANDARD
TZOFFSETFROM:-0700
TZOFFSETTO:-0800
TZNAME:PST
DTSTART:20211107T090000
END:STANDARD
END:VTIMEZONE
BEGIN:VEVENT
DTSTART;TZID=America/Los_Angeles:20200207T100000
DTEND;TZID=America/Los_Angeles:20200207T120000
DTSTAMP:20260421T054206
CREATED:20200106T211302Z
LAST-MODIFIED:20221109T125049Z
UID:1719-1581069600-1581076800@sjjpa.com
SUMMARY:CVRWG Meeting February 7\, 2020
DESCRIPTION:CVRWG Meeting Agenda / CVRWG Meeting February 7 2020 Powerpoint
URL:https://sjjpa.com/event/cvrwg-meeting-february-7-2020/
LOCATION:San Joaquin Council of Governments Board Room\, 555 East Weber Avenue\, Stockton\, Ca\, 95202
CATEGORIES:Committee Meeting
ORGANIZER;CN="Freddy Rodriguez":MAILTO:freddy@sjjpa.com
GEO:37.9550149;-121.2840397
X-APPLE-STRUCTURED-LOCATION;VALUE=URI;X-ADDRESS=San Joaquin Council of Governments Board Room 555 East Weber Avenue Stockton Ca 95202;X-APPLE-RADIUS=500;X-TITLE=555 East Weber Avenue:geo:-121.2840397,37.9550149
END:VEVENT
END:VCALENDAR